BEGIN:VCALENDAR
VERSION:2.0
PRODID:-//Chicopee Public Library - ECPv6.15.3//NONSGML v1.0//EN
CALSCALE:GREGORIAN
METHOD:PUBLISH
X-WR-CALNAME:Chicopee Public Library
X-ORIGINAL-URL:https://www.chicopeepubliclibrary.org
X-WR-CALDESC:Events for Chicopee Public Library
REFRESH-INTERVAL;VALUE=DURATION:PT1H
X-Robots-Tag:noindex
X-PUBLISHED-TTL:PT1H
BEGIN:VTIMEZONE
TZID:UTC
BEGIN:STANDARD
TZOFFSETFROM:+0000
TZOFFSETTO:+0000
TZNAME:UTC
DTSTART:20260101T000000
END:STANDARD
END:VTIMEZONE
BEGIN:VEVENT
DTSTART;TZID=UTC:20260202T083000
DTEND;TZID=UTC:20260202T100000
DTSTAMP:20260423T143650
CREATED:20260123T194833Z
LAST-MODIFIED:20260123T194833Z
UID:10800-1770021000-1770026400@www.chicopeepubliclibrary.org
SUMMARY:Senior Center
DESCRIPTION:
URL:https://www.chicopeepubliclibrary.org/bookmobile/senior-center-42/
LOCATION:Senior Center\, 5 West Street\, Chicopee\, MA\, 01013\, United States
CATEGORIES:Bookmobile Stop
END:VEVENT
BEGIN:VEVENT
DTSTART;TZID=UTC:20260203T103000
DTEND;TZID=UTC:20260203T120000
DTSTAMP:20260423T143650
CREATED:20260123T194837Z
LAST-MODIFIED:20260123T194837Z
UID:10803-1770114600-1770120000@www.chicopeepubliclibrary.org
SUMMARY:Doverbrook
DESCRIPTION:
URL:https://www.chicopeepubliclibrary.org/bookmobile/doverbrook-44/
CATEGORIES:Bookmobile Stop
END:VEVENT
BEGIN:VEVENT
DTSTART;TZID=UTC:20260204T143000
DTEND;TZID=UTC:20260204T163000
DTSTAMP:20260423T143650
CREATED:20260123T194848Z
LAST-MODIFIED:20260123T194848Z
UID:10809-1770215400-1770222600@www.chicopeepubliclibrary.org
SUMMARY:Boys and Girls Club
DESCRIPTION:
URL:https://www.chicopeepubliclibrary.org/bookmobile/boys-and-girls-club-46/
CATEGORIES:Bookmobile Stop
END:VEVENT
BEGIN:VEVENT
DTSTART;TZID=UTC:20260205T103000
DTEND;TZID=UTC:20260205T113000
DTSTAMP:20260423T143650
CREATED:20260123T194847Z
LAST-MODIFIED:20260123T195610Z
UID:10807-1770287400-1770291000@www.chicopeepubliclibrary.org
SUMMARY:Valley Educational Associates
DESCRIPTION:
URL:https://www.chicopeepubliclibrary.org/bookmobile/valley-educational-associates-24/
CATEGORIES:Bookmobile Stop
END:VEVENT
BEGIN:VEVENT
DTSTART;TZID=UTC:20260209T083000
DTEND;TZID=UTC:20260209T100000
DTSTAMP:20260423T143650
CREATED:20260123T194836Z
LAST-MODIFIED:20260123T194836Z
UID:10801-1770625800-1770631200@www.chicopeepubliclibrary.org
SUMMARY:Senior Center
DESCRIPTION:
URL:https://www.chicopeepubliclibrary.org/bookmobile/senior-center-43/
LOCATION:Senior Center\, 5 West Street\, Chicopee\, MA\, 01013\, United States
CATEGORIES:Bookmobile Stop
END:VEVENT
BEGIN:VEVENT
DTSTART;TZID=UTC:20260209T140000
DTEND;TZID=UTC:20260209T150000
DTSTAMP:20260423T143650
CREATED:20260123T194904Z
LAST-MODIFIED:20260123T194904Z
UID:10813-1770645600-1770649200@www.chicopeepubliclibrary.org
SUMMARY:Cabot Manor
DESCRIPTION:
URL:https://www.chicopeepubliclibrary.org/bookmobile/cabot-manor-18/
LOCATION:Cabot Manor\, 106 Stonina Dr\, Chicopee\, 01013\, United States
CATEGORIES:Bookmobile Stop
END:VEVENT
BEGIN:VEVENT
DTSTART;TZID=UTC:20260210T103000
DTEND;TZID=UTC:20260210T120000
DTSTAMP:20260423T143650
CREATED:20260123T194838Z
LAST-MODIFIED:20260123T194838Z
UID:10804-1770719400-1770724800@www.chicopeepubliclibrary.org
SUMMARY:Doverbrook
DESCRIPTION:
URL:https://www.chicopeepubliclibrary.org/bookmobile/doverbrook-45/
CATEGORIES:Bookmobile Stop
END:VEVENT
BEGIN:VEVENT
DTSTART;TZID=UTC:20260210T151500
DTEND;TZID=UTC:20260210T164500
DTSTAMP:20260423T143650
CREATED:20260123T195103Z
LAST-MODIFIED:20260123T195103Z
UID:10817-1770736500-1770741900@www.chicopeepubliclibrary.org
SUMMARY:Ridgewood Village
DESCRIPTION:
URL:https://www.chicopeepubliclibrary.org/bookmobile/ridgewood-village-21/
CATEGORIES:Bookmobile Stop
END:VEVENT
BEGIN:VEVENT
DTSTART;TZID=UTC:20260211T103000
DTEND;TZID=UTC:20260211T113000
DTSTAMP:20260423T143650
CREATED:20260123T195115Z
LAST-MODIFIED:20260123T195115Z
UID:10820-1770805800-1770809400@www.chicopeepubliclibrary.org
SUMMARY:V.O.C.
DESCRIPTION:
URL:https://www.chicopeepubliclibrary.org/bookmobile/v-o-c-6/
CATEGORIES:Bookmobile Stop
END:VEVENT
BEGIN:VEVENT
DTSTART;TZID=UTC:20260211T143000
DTEND;TZID=UTC:20260211T163000
DTSTAMP:20260423T143650
CREATED:20260123T194859Z
LAST-MODIFIED:20260123T194859Z
UID:10810-1770820200-1770827400@www.chicopeepubliclibrary.org
SUMMARY:Boys and Girls Club
DESCRIPTION:
URL:https://www.chicopeepubliclibrary.org/bookmobile/boys-and-girls-club-47/
CATEGORIES:Bookmobile Stop
END:VEVENT
BEGIN:VEVENT
DTSTART;TZID=UTC:20260212T103000
DTEND;TZID=UTC:20260212T120000
DTSTAMP:20260423T143650
CREATED:20260123T195100Z
LAST-MODIFIED:20260123T195100Z
UID:10815-1770892200-1770897600@www.chicopeepubliclibrary.org
SUMMARY:McKinley House
DESCRIPTION:
URL:https://www.chicopeepubliclibrary.org/bookmobile/mckinley-house-22/
LOCATION:McKinley House\, 38 Asinof Avenue\, Chicopee\, MA\, 01013\, United States
CATEGORIES:Bookmobile Stop
END:VEVENT
BEGIN:VEVENT
DTSTART;VALUE=DATE:20260216
DTEND;VALUE=DATE:20260217
DTSTAMP:20260423T143650
CREATED:20260123T195104Z
LAST-MODIFIED:20260123T195426Z
UID:10819-1771200000-1771286399@www.chicopeepubliclibrary.org
SUMMARY:Library Closed
DESCRIPTION:
URL:https://www.chicopeepubliclibrary.org/bookmobile/library-closed-8/
CATEGORIES:Bookmobile Stop
END:VEVENT
BEGIN:VEVENT
DTSTART;TZID=UTC:20260217T103000
DTEND;TZID=UTC:20260217T120000
DTSTAMP:20260423T143650
CREATED:20260123T194844Z
LAST-MODIFIED:20260123T194844Z
UID:10805-1771324200-1771329600@www.chicopeepubliclibrary.org
SUMMARY:Doverbrook
DESCRIPTION:
URL:https://www.chicopeepubliclibrary.org/bookmobile/doverbrook-46/
CATEGORIES:Bookmobile Stop
END:VEVENT
BEGIN:VEVENT
DTSTART;TZID=UTC:20260218T143000
DTEND;TZID=UTC:20260218T163000
DTSTAMP:20260423T143650
CREATED:20260123T194903Z
LAST-MODIFIED:20260123T194903Z
UID:10811-1771425000-1771432200@www.chicopeepubliclibrary.org
SUMMARY:Boys and Girls Club
DESCRIPTION:
URL:https://www.chicopeepubliclibrary.org/bookmobile/boys-and-girls-club-48/
CATEGORIES:Bookmobile Stop
END:VEVENT
BEGIN:VEVENT
DTSTART;TZID=UTC:20260219T103000
DTEND;TZID=UTC:20260219T113000
DTSTAMP:20260423T143650
CREATED:20260123T194848Z
LAST-MODIFIED:20260123T195728Z
UID:10808-1771497000-1771500600@www.chicopeepubliclibrary.org
SUMMARY:Valley Educational Associates
DESCRIPTION:
URL:https://www.chicopeepubliclibrary.org/bookmobile/valley-educational-associates-25/
CATEGORIES:Bookmobile Stop
END:VEVENT
BEGIN:VEVENT
DTSTART;TZID=UTC:20260223T083000
DTEND;TZID=UTC:20260223T100000
DTSTAMP:20260423T143650
CREATED:20260123T194836Z
LAST-MODIFIED:20260123T194836Z
UID:10802-1771835400-1771840800@www.chicopeepubliclibrary.org
SUMMARY:Senior Center
DESCRIPTION:
URL:https://www.chicopeepubliclibrary.org/bookmobile/senior-center-44/
LOCATION:Senior Center\, 5 West Street\, Chicopee\, MA\, 01013\, United States
CATEGORIES:Bookmobile Stop
END:VEVENT
BEGIN:VEVENT
DTSTART;TZID=UTC:20260223T150000
DTEND;TZID=UTC:20260223T160000
DTSTAMP:20260423T143650
CREATED:20260123T194904Z
LAST-MODIFIED:20260127T144844Z
UID:10814-1771858800-1771862400@www.chicopeepubliclibrary.org
SUMMARY:Cabot Manor (cancelled due to snow)
DESCRIPTION:
URL:https://www.chicopeepubliclibrary.org/bookmobile/cabot-manor-19/
LOCATION:Cabot Manor\, 106 Stonina Dr\, Chicopee\, 01013\, United States
CATEGORIES:Bookmobile Stop
END:VEVENT
BEGIN:VEVENT
DTSTART;TZID=UTC:20260224T103000
DTEND;TZID=UTC:20260224T120000
DTSTAMP:20260423T143650
CREATED:20260123T194846Z
LAST-MODIFIED:20260123T194846Z
UID:10806-1771929000-1771934400@www.chicopeepubliclibrary.org
SUMMARY:Doverbrook
DESCRIPTION:
URL:https://www.chicopeepubliclibrary.org/bookmobile/doverbrook-47/
CATEGORIES:Bookmobile Stop
END:VEVENT
BEGIN:VEVENT
DTSTART;TZID=UTC:20260224T151500
DTEND;TZID=UTC:20260224T164500
DTSTAMP:20260423T143650
CREATED:20260123T195104Z
LAST-MODIFIED:20260123T195104Z
UID:10818-1771946100-1771951500@www.chicopeepubliclibrary.org
SUMMARY:Ridgewood Village
DESCRIPTION:
URL:https://www.chicopeepubliclibrary.org/bookmobile/ridgewood-village-22/
CATEGORIES:Bookmobile Stop
END:VEVENT
BEGIN:VEVENT
DTSTART;TZID=UTC:20260225T103000
DTEND;TZID=UTC:20260225T113000
DTSTAMP:20260423T143650
CREATED:20260123T195117Z
LAST-MODIFIED:20260123T195117Z
UID:10821-1772015400-1772019000@www.chicopeepubliclibrary.org
SUMMARY:V.O.C.
DESCRIPTION:
URL:https://www.chicopeepubliclibrary.org/bookmobile/v-o-c-7/
CATEGORIES:Bookmobile Stop
END:VEVENT
BEGIN:VEVENT
DTSTART;TZID=UTC:20260225T143000
DTEND;TZID=UTC:20260225T163000
DTSTAMP:20260423T143650
CREATED:20260123T194903Z
LAST-MODIFIED:20260123T194903Z
UID:10812-1772029800-1772037000@www.chicopeepubliclibrary.org
SUMMARY:Boys and Girls Club
DESCRIPTION:
URL:https://www.chicopeepubliclibrary.org/bookmobile/boys-and-girls-club-49/
CATEGORIES:Bookmobile Stop
END:VEVENT
BEGIN:VEVENT
DTSTART;TZID=UTC:20260226T103000
DTEND;TZID=UTC:20260226T120000
DTSTAMP:20260423T143650
CREATED:20260123T195103Z
LAST-MODIFIED:20260123T195103Z
UID:10816-1772101800-1772107200@www.chicopeepubliclibrary.org
SUMMARY:McKinley House
DESCRIPTION:
URL:https://www.chicopeepubliclibrary.org/bookmobile/mckinley-house-23/
LOCATION:McKinley House\, 38 Asinof Avenue\, Chicopee\, MA\, 01013\, United States
CATEGORIES:Bookmobile Stop
END:VEVENT
END:VCALENDAR