BEGIN:VCALENDAR
VERSION:2.0
PRODID:-//Chicopee Public Library - ECPv6.15.3//NONSGML v1.0//EN
CALSCALE:GREGORIAN
METHOD:PUBLISH
X-WR-CALNAME:Chicopee Public Library
X-ORIGINAL-URL:https://www.chicopeepubliclibrary.org
X-WR-CALDESC:Events for Chicopee Public Library
REFRESH-INTERVAL;VALUE=DURATION:PT1H
X-Robots-Tag:noindex
X-PUBLISHED-TTL:PT1H
BEGIN:VTIMEZONE
TZID:UTC
BEGIN:STANDARD
TZOFFSETFROM:+0000
TZOFFSETTO:+0000
TZNAME:UTC
DTSTART:20260101T000000
END:STANDARD
END:VTIMEZONE
BEGIN:VEVENT
DTSTART;TZID=UTC:20260113T103000
DTEND;TZID=UTC:20260113T120000
DTSTAMP:20260423T181940
CREATED:20260105T184100Z
LAST-MODIFIED:20260105T184100Z
UID:10735-1768300200-1768305600@www.chicopeepubliclibrary.org
SUMMARY:Doverbrook
DESCRIPTION:
URL:https://www.chicopeepubliclibrary.org/bookmobile/doverbrook-41/
CATEGORIES:Bookmobile Stop
END:VEVENT
BEGIN:VEVENT
DTSTART;TZID=UTC:20260113T151500
DTEND;TZID=UTC:20260113T164500
DTSTAMP:20260423T181940
CREATED:20260105T184136Z
LAST-MODIFIED:20260105T184136Z
UID:10748-1768317300-1768322700@www.chicopeepubliclibrary.org
SUMMARY:Ridgewood Village
DESCRIPTION:
URL:https://www.chicopeepubliclibrary.org/bookmobile/ridgewood-village-19/
CATEGORIES:Bookmobile Stop
END:VEVENT
END:VCALENDAR