BEGIN:VCALENDAR
VERSION:2.0
PRODID:-//Chicopee Public Library - ECPv6.15.3//NONSGML v1.0//EN
CALSCALE:GREGORIAN
METHOD:PUBLISH
X-WR-CALNAME:Chicopee Public Library
X-ORIGINAL-URL:https://www.chicopeepubliclibrary.org
X-WR-CALDESC:Events for Chicopee Public Library
REFRESH-INTERVAL;VALUE=DURATION:PT1H
X-Robots-Tag:noindex
X-PUBLISHED-TTL:PT1H
BEGIN:VTIMEZONE
TZID:UTC
BEGIN:STANDARD
TZOFFSETFROM:+0000
TZOFFSETTO:+0000
TZNAME:UTC
DTSTART:20260101T000000
END:STANDARD
END:VTIMEZONE
BEGIN:VEVENT
DTSTART;TZID=UTC:20260128T103000
DTEND;TZID=UTC:20260128T113000
DTSTAMP:20260423T182436
CREATED:20260105T184151Z
LAST-MODIFIED:20260105T184151Z
UID:10752-1769596200-1769599800@www.chicopeepubliclibrary.org
SUMMARY:V.O.C.
DESCRIPTION:
URL:https://www.chicopeepubliclibrary.org/bookmobile/v-o-c-5/
CATEGORIES:Bookmobile Stop
END:VEVENT
BEGIN:VEVENT
DTSTART;TZID=UTC:20260128T143000
DTEND;TZID=UTC:20260128T163000
DTSTAMP:20260423T182436
CREATED:20260105T184124Z
LAST-MODIFIED:20260105T184124Z
UID:10743-1769610600-1769617800@www.chicopeepubliclibrary.org
SUMMARY:Boys and Girls Club
DESCRIPTION:
URL:https://www.chicopeepubliclibrary.org/bookmobile/boys-and-girls-club-45/
CATEGORIES:Bookmobile Stop
END:VEVENT
END:VCALENDAR