BEGIN:VCALENDAR
VERSION:2.0
PRODID:-//Chicopee Public Library - ECPv6.15.3//NONSGML v1.0//EN
CALSCALE:GREGORIAN
METHOD:PUBLISH
X-WR-CALNAME:Chicopee Public Library
X-ORIGINAL-URL:https://www.chicopeepubliclibrary.org
X-WR-CALDESC:Events for Chicopee Public Library
REFRESH-INTERVAL;VALUE=DURATION:PT1H
X-Robots-Tag:noindex
X-PUBLISHED-TTL:PT1H
BEGIN:VTIMEZONE
TZID:UTC
BEGIN:STANDARD
TZOFFSETFROM:+0000
TZOFFSETTO:+0000
TZNAME:UTC
DTSTART:20260101T000000
END:STANDARD
END:VTIMEZONE
BEGIN:VEVENT
DTSTART;TZID=UTC:20260304T143000
DTEND;TZID=UTC:20260304T163000
DTSTAMP:20260423T143720
CREATED:20260225T182722Z
LAST-MODIFIED:20260225T182722Z
UID:10900-1772634600-1772641800@www.chicopeepubliclibrary.org
SUMMARY:Boys and Girls Club
DESCRIPTION:
URL:https://www.chicopeepubliclibrary.org/bookmobile/boys-and-girls-club-50/
CATEGORIES:Bookmobile Stop
END:VEVENT
END:VCALENDAR