BEGIN:VCALENDAR
VERSION:2.0
PRODID:-//Chicopee Public Library - ECPv6.15.3//NONSGML v1.0//EN
CALSCALE:GREGORIAN
METHOD:PUBLISH
X-WR-CALNAME:Chicopee Public Library
X-ORIGINAL-URL:https://www.chicopeepubliclibrary.org
X-WR-CALDESC:Events for Chicopee Public Library
REFRESH-INTERVAL;VALUE=DURATION:PT1H
X-Robots-Tag:noindex
X-PUBLISHED-TTL:PT1H
BEGIN:VTIMEZONE
TZID:UTC
BEGIN:STANDARD
TZOFFSETFROM:+0000
TZOFFSETTO:+0000
TZNAME:UTC
DTSTART:20260101T000000
END:STANDARD
END:VTIMEZONE
BEGIN:VEVENT
DTSTART;TZID=UTC:20260310T103000
DTEND;TZID=UTC:20260310T120000
DTSTAMP:20260423T144118
CREATED:20260225T182520Z
LAST-MODIFIED:20260225T182520Z
UID:10894-1773138600-1773144000@www.chicopeepubliclibrary.org
SUMMARY:Doverbrook
DESCRIPTION:
URL:https://www.chicopeepubliclibrary.org/bookmobile/doverbrook-49/
CATEGORIES:Bookmobile Stop
END:VEVENT
BEGIN:VEVENT
DTSTART;TZID=UTC:20260310T151500
DTEND;TZID=UTC:20260310T164500
DTSTAMP:20260423T144118
CREATED:20260225T183120Z
LAST-MODIFIED:20260225T183120Z
UID:10908-1773155700-1773161100@www.chicopeepubliclibrary.org
SUMMARY:Ridgewood Village
DESCRIPTION:
URL:https://www.chicopeepubliclibrary.org/bookmobile/ridgewood-village-23/
CATEGORIES:Bookmobile Stop
END:VEVENT
END:VCALENDAR