BEGIN:VCALENDAR
VERSION:2.0
PRODID:-//Chicopee Public Library - ECPv6.15.3//NONSGML v1.0//EN
CALSCALE:GREGORIAN
METHOD:PUBLISH
X-WR-CALNAME:Chicopee Public Library
X-ORIGINAL-URL:https://www.chicopeepubliclibrary.org
X-WR-CALDESC:Events for Chicopee Public Library
REFRESH-INTERVAL;VALUE=DURATION:PT1H
X-Robots-Tag:noindex
X-PUBLISHED-TTL:PT1H
BEGIN:VTIMEZONE
TZID:UTC
BEGIN:STANDARD
TZOFFSETFROM:+0000
TZOFFSETTO:+0000
TZNAME:UTC
DTSTART:20260101T000000
END:STANDARD
END:VTIMEZONE
BEGIN:VEVENT
DTSTART;TZID=UTC:20260406T083000
DTEND;TZID=UTC:20260406T101500
DTSTAMP:20260423T144748
CREATED:20260324T182617Z
LAST-MODIFIED:20260324T182617Z
UID:10954-1775464200-1775470500@www.chicopeepubliclibrary.org
SUMMARY:Senior Center
DESCRIPTION:
URL:https://www.chicopeepubliclibrary.org/bookmobile/senior-center-50/
LOCATION:Senior Center\, 5 West Street\, Chicopee\, MA\, 01013\, United States
CATEGORIES:Bookmobile Stop
END:VEVENT
BEGIN:VEVENT
DTSTART;TZID=UTC:20260406T150000
DTEND;TZID=UTC:20260406T160000
DTSTAMP:20260423T144748
CREATED:20260324T182845Z
LAST-MODIFIED:20260324T182845Z
UID:10969-1775487600-1775491200@www.chicopeepubliclibrary.org
SUMMARY:Cabot Manor
DESCRIPTION:
URL:https://www.chicopeepubliclibrary.org/bookmobile/cabot-manor-22/
LOCATION:Cabot Manor\, 106 Stonina Dr\, Chicopee\, 01013\, United States
CATEGORIES:Bookmobile Stop
END:VEVENT
END:VCALENDAR