BEGIN:VCALENDAR
VERSION:2.0
PRODID:-//Chicopee Public Library - ECPv6.15.3//NONSGML v1.0//EN
CALSCALE:GREGORIAN
METHOD:PUBLISH
X-WR-CALNAME:Chicopee Public Library
X-ORIGINAL-URL:https://www.chicopeepubliclibrary.org
X-WR-CALDESC:Events for Chicopee Public Library
REFRESH-INTERVAL;VALUE=DURATION:PT1H
X-Robots-Tag:noindex
X-PUBLISHED-TTL:PT1H
BEGIN:VTIMEZONE
TZID:UTC
BEGIN:STANDARD
TZOFFSETFROM:+0000
TZOFFSETTO:+0000
TZNAME:UTC
DTSTART:20260101T000000
END:STANDARD
END:VTIMEZONE
BEGIN:VEVENT
DTSTART;TZID=UTC:20260423T103000
DTEND;TZID=UTC:20260423T120000
DTSTAMP:20260423T144136
CREATED:20260324T182848Z
LAST-MODIFIED:20260324T182848Z
UID:10972-1776940200-1776945600@www.chicopeepubliclibrary.org
SUMMARY:McKinley House
DESCRIPTION:
URL:https://www.chicopeepubliclibrary.org/bookmobile/mckinley-house-27/
LOCATION:McKinley House\, 38 Asinof Avenue\, Chicopee\, MA\, 01013\, United States
CATEGORIES:Bookmobile Stop
END:VEVENT
BEGIN:VEVENT
DTSTART;TZID=UTC:20260422T143000
DTEND;TZID=UTC:20260422T163000
DTSTAMP:20260423T144136
CREATED:20260324T182650Z
LAST-MODIFIED:20260324T182650Z
UID:10967-1776868200-1776875400@www.chicopeepubliclibrary.org
SUMMARY:Boys and Girls Club
DESCRIPTION:
URL:https://www.chicopeepubliclibrary.org/bookmobile/boys-and-girls-club-57/
CATEGORIES:Bookmobile Stop
END:VEVENT
BEGIN:VEVENT
DTSTART;TZID=UTC:20260421T151500
DTEND;TZID=UTC:20260421T164500
DTSTAMP:20260423T144136
CREATED:20260324T183045Z
LAST-MODIFIED:20260324T183045Z
UID:10974-1776784500-1776789900@www.chicopeepubliclibrary.org
SUMMARY:Ridgewood Village
DESCRIPTION:
URL:https://www.chicopeepubliclibrary.org/bookmobile/ridgewood-village-26/
CATEGORIES:Bookmobile Stop
END:VEVENT
BEGIN:VEVENT
DTSTART;TZID=UTC:20260421T103000
DTEND;TZID=UTC:20260421T120000
DTSTAMP:20260423T144136
CREATED:20260324T182629Z
LAST-MODIFIED:20260324T182629Z
UID:10959-1776767400-1776772800@www.chicopeepubliclibrary.org
SUMMARY:Doverbrook
DESCRIPTION:
URL:https://www.chicopeepubliclibrary.org/bookmobile/doverbrook-55/
CATEGORIES:Bookmobile Stop
END:VEVENT
BEGIN:VEVENT
DTSTART;TZID=UTC:20260416T103000
DTEND;TZID=UTC:20260416T113000
DTSTAMP:20260423T144136
CREATED:20260324T182633Z
LAST-MODIFIED:20260324T182633Z
UID:10962-1776335400-1776339000@www.chicopeepubliclibrary.org
SUMMARY:Valley Educational Associates
DESCRIPTION:
URL:https://www.chicopeepubliclibrary.org/bookmobile/valley-educational-associates-29/
CATEGORIES:Bookmobile Stop
END:VEVENT
BEGIN:VEVENT
DTSTART;TZID=UTC:20260415T143000
DTEND;TZID=UTC:20260415T163000
DTSTAMP:20260423T144136
CREATED:20260324T182649Z
LAST-MODIFIED:20260324T182649Z
UID:10966-1776263400-1776270600@www.chicopeepubliclibrary.org
SUMMARY:Boys and Girls Club
DESCRIPTION:
URL:https://www.chicopeepubliclibrary.org/bookmobile/boys-and-girls-club-56/
CATEGORIES:Bookmobile Stop
END:VEVENT
BEGIN:VEVENT
DTSTART;TZID=UTC:20260414T103000
DTEND;TZID=UTC:20260414T120000
DTSTAMP:20260423T144136
CREATED:20260324T182623Z
LAST-MODIFIED:20260324T182623Z
UID:10958-1776162600-1776168000@www.chicopeepubliclibrary.org
SUMMARY:Doverbrook
DESCRIPTION:
URL:https://www.chicopeepubliclibrary.org/bookmobile/doverbrook-54/
CATEGORIES:Bookmobile Stop
END:VEVENT
BEGIN:VEVENT
DTSTART;TZID=UTC:20260413T083000
DTEND;TZID=UTC:20260413T101500
DTSTAMP:20260423T144136
CREATED:20260324T182620Z
LAST-MODIFIED:20260324T182620Z
UID:10955-1776069000-1776075300@www.chicopeepubliclibrary.org
SUMMARY:Senior Center
DESCRIPTION:
URL:https://www.chicopeepubliclibrary.org/bookmobile/senior-center-51/
LOCATION:Senior Center\, 5 West Street\, Chicopee\, MA\, 01013\, United States
CATEGORIES:Bookmobile Stop
END:VEVENT
BEGIN:VEVENT
DTSTART;TZID=UTC:20260409T103000
DTEND;TZID=UTC:20260409T120000
DTSTAMP:20260423T144136
CREATED:20260324T182848Z
LAST-MODIFIED:20260324T182848Z
UID:10971-1775730600-1775736000@www.chicopeepubliclibrary.org
SUMMARY:McKinley House
DESCRIPTION:
URL:https://www.chicopeepubliclibrary.org/bookmobile/mckinley-house-26/
LOCATION:McKinley House\, 38 Asinof Avenue\, Chicopee\, MA\, 01013\, United States
CATEGORIES:Bookmobile Stop
END:VEVENT
BEGIN:VEVENT
DTSTART;TZID=UTC:20260408T143000
DTEND;TZID=UTC:20260408T163000
DTSTAMP:20260423T144136
CREATED:20260324T182648Z
LAST-MODIFIED:20260324T182648Z
UID:10965-1775658600-1775665800@www.chicopeepubliclibrary.org
SUMMARY:Boys and Girls Club
DESCRIPTION:
URL:https://www.chicopeepubliclibrary.org/bookmobile/boys-and-girls-club-55/
CATEGORIES:Bookmobile Stop
END:VEVENT
BEGIN:VEVENT
DTSTART;TZID=UTC:20260408T103000
DTEND;TZID=UTC:20260408T113000
DTSTAMP:20260423T144136
CREATED:20260324T183048Z
LAST-MODIFIED:20260324T183048Z
UID:10975-1775644200-1775647800@www.chicopeepubliclibrary.org
SUMMARY:V.O.C.
DESCRIPTION:
URL:https://www.chicopeepubliclibrary.org/bookmobile/v-o-c-10/
CATEGORIES:Bookmobile Stop
END:VEVENT
BEGIN:VEVENT
DTSTART;TZID=UTC:20260407T151500
DTEND;TZID=UTC:20260407T164500
DTSTAMP:20260423T144136
CREATED:20260324T182849Z
LAST-MODIFIED:20260324T182849Z
UID:10973-1775574900-1775580300@www.chicopeepubliclibrary.org
SUMMARY:Ridgewood Village
DESCRIPTION:
URL:https://www.chicopeepubliclibrary.org/bookmobile/ridgewood-village-25/
CATEGORIES:Bookmobile Stop
END:VEVENT
BEGIN:VEVENT
DTSTART;TZID=UTC:20260407T103000
DTEND;TZID=UTC:20260407T120000
DTSTAMP:20260423T144136
CREATED:20260324T182622Z
LAST-MODIFIED:20260324T182622Z
UID:10957-1775557800-1775563200@www.chicopeepubliclibrary.org
SUMMARY:Doverbrook
DESCRIPTION:
URL:https://www.chicopeepubliclibrary.org/bookmobile/doverbrook-53/
CATEGORIES:Bookmobile Stop
END:VEVENT
BEGIN:VEVENT
DTSTART;TZID=UTC:20260406T150000
DTEND;TZID=UTC:20260406T160000
DTSTAMP:20260423T144136
CREATED:20260324T182845Z
LAST-MODIFIED:20260324T182845Z
UID:10969-1775487600-1775491200@www.chicopeepubliclibrary.org
SUMMARY:Cabot Manor
DESCRIPTION:
URL:https://www.chicopeepubliclibrary.org/bookmobile/cabot-manor-22/
LOCATION:Cabot Manor\, 106 Stonina Dr\, Chicopee\, 01013\, United States
CATEGORIES:Bookmobile Stop
END:VEVENT
BEGIN:VEVENT
DTSTART;TZID=UTC:20260406T083000
DTEND;TZID=UTC:20260406T101500
DTSTAMP:20260423T144136
CREATED:20260324T182617Z
LAST-MODIFIED:20260324T182617Z
UID:10954-1775464200-1775470500@www.chicopeepubliclibrary.org
SUMMARY:Senior Center
DESCRIPTION:
URL:https://www.chicopeepubliclibrary.org/bookmobile/senior-center-50/
LOCATION:Senior Center\, 5 West Street\, Chicopee\, MA\, 01013\, United States
CATEGORIES:Bookmobile Stop
END:VEVENT
BEGIN:VEVENT
DTSTART;TZID=UTC:20260402T103000
DTEND;TZID=UTC:20260402T113000
DTSTAMP:20260423T144136
CREATED:20260324T182632Z
LAST-MODIFIED:20260324T182632Z
UID:10961-1775125800-1775129400@www.chicopeepubliclibrary.org
SUMMARY:Valley Educational Associates
DESCRIPTION:
URL:https://www.chicopeepubliclibrary.org/bookmobile/valley-educational-associates-28/
CATEGORIES:Bookmobile Stop
END:VEVENT
BEGIN:VEVENT
DTSTART;TZID=UTC:20260401T143000
DTEND;TZID=UTC:20260401T163000
DTSTAMP:20260423T144136
CREATED:20260324T182645Z
LAST-MODIFIED:20260324T182645Z
UID:10964-1775053800-1775061000@www.chicopeepubliclibrary.org
SUMMARY:Boys and Girls Club
DESCRIPTION:
URL:https://www.chicopeepubliclibrary.org/bookmobile/boys-and-girls-club-54/
CATEGORIES:Bookmobile Stop
END:VEVENT
BEGIN:VEVENT
DTSTART;TZID=UTC:20260331T103000
DTEND;TZID=UTC:20260331T120000
DTSTAMP:20260423T144136
CREATED:20260225T182522Z
LAST-MODIFIED:20260225T182522Z
UID:10897-1774953000-1774958400@www.chicopeepubliclibrary.org
SUMMARY:Doverbrook
DESCRIPTION:
URL:https://www.chicopeepubliclibrary.org/bookmobile/doverbrook-52/
CATEGORIES:Bookmobile Stop
END:VEVENT
BEGIN:VEVENT
DTSTART;TZID=UTC:20260330T083000
DTEND;TZID=UTC:20260330T100000
DTSTAMP:20260423T144136
CREATED:20260225T182513Z
LAST-MODIFIED:20260225T182513Z
UID:10892-1774859400-1774864800@www.chicopeepubliclibrary.org
SUMMARY:Senior Center
DESCRIPTION:
URL:https://www.chicopeepubliclibrary.org/bookmobile/senior-center-49/
LOCATION:Senior Center\, 5 West Street\, Chicopee\, MA\, 01013\, United States
CATEGORIES:Bookmobile Stop
END:VEVENT
BEGIN:VEVENT
DTSTART;TZID=UTC:20260326T103000
DTEND;TZID=UTC:20260326T120000
DTSTAMP:20260423T144136
CREATED:20260225T182923Z
LAST-MODIFIED:20260225T182923Z
UID:10907-1774521000-1774526400@www.chicopeepubliclibrary.org
SUMMARY:McKinley House
DESCRIPTION:
URL:https://www.chicopeepubliclibrary.org/bookmobile/mckinley-house-25/
LOCATION:McKinley House\, 38 Asinof Avenue\, Chicopee\, MA\, 01013\, United States
CATEGORIES:Bookmobile Stop
END:VEVENT
BEGIN:VEVENT
DTSTART;TZID=UTC:20260325T143000
DTEND;TZID=UTC:20260325T163000
DTSTAMP:20260423T144136
CREATED:20260225T182920Z
LAST-MODIFIED:20260225T182920Z
UID:10903-1774449000-1774456200@www.chicopeepubliclibrary.org
SUMMARY:Boys and Girls Club
DESCRIPTION:
URL:https://www.chicopeepubliclibrary.org/bookmobile/boys-and-girls-club-53/
CATEGORIES:Bookmobile Stop
END:VEVENT
BEGIN:VEVENT
DTSTART;TZID=UTC:20260325T103000
DTEND;TZID=UTC:20260325T113000
DTSTAMP:20260423T144136
CREATED:20260225T183124Z
LAST-MODIFIED:20260225T183124Z
UID:10911-1774434600-1774438200@www.chicopeepubliclibrary.org
SUMMARY:V.O.C.
DESCRIPTION:
URL:https://www.chicopeepubliclibrary.org/bookmobile/v-o-c-9/
CATEGORIES:Bookmobile Stop
END:VEVENT
BEGIN:VEVENT
DTSTART;TZID=UTC:20260324T151500
DTEND;TZID=UTC:20260324T164500
DTSTAMP:20260423T144136
CREATED:20260225T183123Z
LAST-MODIFIED:20260225T183123Z
UID:10909-1774365300-1774370700@www.chicopeepubliclibrary.org
SUMMARY:Ridgewood Village
DESCRIPTION:
URL:https://www.chicopeepubliclibrary.org/bookmobile/ridgewood-village-24/
CATEGORIES:Bookmobile Stop
END:VEVENT
BEGIN:VEVENT
DTSTART;TZID=UTC:20260324T103000
DTEND;TZID=UTC:20260324T120000
DTSTAMP:20260423T144136
CREATED:20260225T182521Z
LAST-MODIFIED:20260225T182521Z
UID:10896-1774348200-1774353600@www.chicopeepubliclibrary.org
SUMMARY:Doverbrook
DESCRIPTION:
URL:https://www.chicopeepubliclibrary.org/bookmobile/doverbrook-51/
CATEGORIES:Bookmobile Stop
END:VEVENT
BEGIN:VEVENT
DTSTART;TZID=UTC:20260323T150000
DTEND;TZID=UTC:20260323T160000
DTSTAMP:20260423T144136
CREATED:20260225T182922Z
LAST-MODIFIED:20260225T182922Z
UID:10905-1774278000-1774281600@www.chicopeepubliclibrary.org
SUMMARY:Cabot Manor
DESCRIPTION:
URL:https://www.chicopeepubliclibrary.org/bookmobile/cabot-manor-21/
LOCATION:Cabot Manor\, 106 Stonina Dr\, Chicopee\, 01013\, United States
CATEGORIES:Bookmobile Stop
END:VEVENT
BEGIN:VEVENT
DTSTART;TZID=UTC:20260323T083000
DTEND;TZID=UTC:20260323T100000
DTSTAMP:20260423T144136
CREATED:20260225T182512Z
LAST-MODIFIED:20260225T182512Z
UID:10891-1774254600-1774260000@www.chicopeepubliclibrary.org
SUMMARY:Senior Center
DESCRIPTION:
URL:https://www.chicopeepubliclibrary.org/bookmobile/senior-center-48/
LOCATION:Senior Center\, 5 West Street\, Chicopee\, MA\, 01013\, United States
CATEGORIES:Bookmobile Stop
END:VEVENT
BEGIN:VEVENT
DTSTART;TZID=UTC:20260319T103000
DTEND;TZID=UTC:20260319T113000
DTSTAMP:20260423T144136
CREATED:20260225T182721Z
LAST-MODIFIED:20260225T182721Z
UID:10899-1773916200-1773919800@www.chicopeepubliclibrary.org
SUMMARY:Valley Educational Associates
DESCRIPTION:
URL:https://www.chicopeepubliclibrary.org/bookmobile/valley-educational-associates-27/
CATEGORIES:Bookmobile Stop
END:VEVENT
BEGIN:VEVENT
DTSTART;TZID=UTC:20260318T143000
DTEND;TZID=UTC:20260318T163000
DTSTAMP:20260423T144136
CREATED:20260225T182724Z
LAST-MODIFIED:20260225T182724Z
UID:10902-1773844200-1773851400@www.chicopeepubliclibrary.org
SUMMARY:Boys and Girls Club
DESCRIPTION:
URL:https://www.chicopeepubliclibrary.org/bookmobile/boys-and-girls-club-52/
CATEGORIES:Bookmobile Stop
END:VEVENT
BEGIN:VEVENT
DTSTART;TZID=UTC:20260317T103000
DTEND;TZID=UTC:20260317T120000
DTSTAMP:20260423T144136
CREATED:20260225T182520Z
LAST-MODIFIED:20260225T182520Z
UID:10895-1773743400-1773748800@www.chicopeepubliclibrary.org
SUMMARY:Doverbrook
DESCRIPTION:
URL:https://www.chicopeepubliclibrary.org/bookmobile/doverbrook-50/
CATEGORIES:Bookmobile Stop
END:VEVENT
BEGIN:VEVENT
DTSTART;TZID=UTC:20260316T083000
DTEND;TZID=UTC:20260316T100000
DTSTAMP:20260423T144136
CREATED:20260225T182511Z
LAST-MODIFIED:20260225T182511Z
UID:10890-1773649800-1773655200@www.chicopeepubliclibrary.org
SUMMARY:Senior Center
DESCRIPTION:
URL:https://www.chicopeepubliclibrary.org/bookmobile/senior-center-47/
LOCATION:Senior Center\, 5 West Street\, Chicopee\, MA\, 01013\, United States
CATEGORIES:Bookmobile Stop
END:VEVENT
END:VCALENDAR